Workbook

Sheet Project Details
A1: Project Details CN6000
A3: Student Name | C3: Jayrup Divyesh Nakawala
A4: Student Number | C4: u2613621
A5: Programme of Study | C5: BSc (Hons) Computer Science
A6: Project Title | C6: Evaluating Frontier LLMs in Agentic Environments
A7: Supervisor | C7: Aloy Edoh
A8: Second Marker
A9: Third Marker
A10: Comments by Supervisor
A11: Comment by Module leader

Sheet Student Progress
A1: Report Summary | B1: Student ID | C1: Proposal Status | D1: Presentation Grade | E1: Viva Grade | F1: Support Documents: Presentation & Viva (25%) | G1: Documentation (75%): Report (65%) & Career Pathway (10%) | H1: Overall
A2: Marks | B2: ='Project Details'!$C$4 -> u2613621 | C2: ='Proposal Approval'!M2 -> 0 | D2: =Presentation!$F$27 -> 0 | E2: =Viva!$F$24 -> 0 | F2: =D2+E2 -> 0 | G2: =AVERAGE('Report - Supervisor'!$E$14,'Report - Second Marker'!$E$14)/1.3333 -> 0
A3: Out of | D3: 0.1 | E3: 0.15 | F3: 0.25 | G3: 0.75
A4: Percentage | D4: ='Student Progress'!D2/0.1 -> 0 | E4: =E2/0.15 -> 0 | F4: =F2/0.25 -> 0 | G4: =G2/0.75 -> 0 | H4: =SUM(F2:G2) -> 0

Sheet Proposal Approval
A1: Proposal Approval (by the Second Marker)
A3: Criteria | B3: Yes/No
A4: Does the project proposal provide evidence that the project will contain both a theoretical and a practical component? (The project must research a chosen topic, identify a problem and then develop a solution to that problem.)
A5: Is the proposed project consistent with the aims and learning outcomes of the programme the student is studying on?
A6: Is the proposed project at an advanced level (i.e. topics/issues appropriate to level 6 study)? Projects that involve little more than the application of level 4 skills (e.g. the development of an Access database or the creation of static HTML web pages) are not appropriate.
A7: Does the proposed project involve the solution of a problem by the application of information technology? The problem should meet a real need in a wider context. The project should analyse the problem and design and implement one or more solutions using a systematic approach and appropriate tools and techniques.
A8: Does the proposed project contain an element of originality? The project should not be repeating the work of others or trying to solve a problem which has been solved before unless the student is going about it in a new or novel way.
A9: Is the project proposal feasible in terms of time, resources and the skills at the student’s disposal?
A12: Constraints | B12: Yes/No
A13: Is the practical element of the project based on evaluating tools? Compare and contrast projects that simply evaluate tools and their performance are not sufficiently complex for final year projects. Such projects will not meet the practical component requirements of the module.
A14: Does the project propose simple data collection and data analysis for the practical component? Projects that propose simple data collection and data analysis are not sufficiently complex for final year projects. Such projects will not meet the practical component requirements of the module.
A17: Decision (To be approved, every criterion must = 'yes' and both constraints must = 'no'.) | B17: =IF((AND(B4="Yes", B5="Yes", B6="Yes", B7="Yes", B8="Yes", B9="Yes", B13="No", B14="No")), "Approved", "Not Approved") -> Not Approved
A18: Please provide further feedback if not approved.

Sheet Presentation
A1: Presentation (to be marked by the Supervisor and Academic Marker) 10% of the module.
A3: Project Progress and Plan
A4: How well has the problem been defined?
A6: Poor - 0, Satisfactory - 1, Good - 2, Very Good - 3, Excellent - 4
A7: Is there good progress in the writing? (Literature review)
A9: Poor - 0, Satisfactory - 1, Good - 2, Very Good - 3, Excellent - 4
A10: Evidence of engagement with the supervisor?
A12: Poor - 0, Satisfactory - 1, Good - 2, Very Good - 3, Excellent - 4
A13: Plan - are the project milestones and objectives realistic?
A15: Absent - 0, Unrealistic - 1, Satisfactory - 2, Realistic - 3, Very realistic - 4
A16: Presentation
A17: Explanation - Were the ideas and concepts in the project explained well?
... A25: Absent - 0, Poor - 1, Satisfactory - 2, Good - 3, Very Good - 4, Excellent - 5, Outstanding - 6
A27: Total (out of 10) | F27: =(F5+F8+F11+F14+F18+F21+F24)/3 -> 0
A28: Feedback Summary (minimum 20 words) | F28: Words: | G28: =IF(LEN(TRIM(A29))=0,0,LEN(TRIM(A29))-LEN(SUBSTITUTE(A29," ",""))+1) -> 0

Sheet Viva
A1: Viva and Demonstration (to be marked by the Supervisor and Academic Marker) 15% of the module
A3: Practical Demonstration
A4: Quality of implementation - novelty & technical complexity of the solution.
A6: Weak - 0, Adequate - 1, Good - 2, Very good - 3, Excellent - 4, Outstanding - 5
A7: Implementation demonstrates findings of theoretical aspect of the project.
A9: Weak - 0, Adequate - 1, Good - 2, Very good - 3, Excellent - 4, Outstanding - 5
A10: How well did the student answer questions regarding the implementation? e.g. Coding
A12: Weak - 0, Adequate - 1, Good - 2, Very good - 3, Excellent - 4, Outstanding - 5
A13: Viva Questions
A14: Explanation - Were the ideas and concepts explained well?
A16: Weak - 0, Adequate - 1, Good - 2, Very good - 3, Excellent - 4, Outstanding - 5
A17: Q&A - How well did the student answer the questions by the panel?
... A23: Weak - 0, Adequate - 1, Good - 2, Very Good - 3, Excellent - 4, Outstanding - 5
A24: Total (out of 15) | F24: =(F5+F8+F11+F15+F18+F22)/2 -> 0
A25: Feedback Summary (minimum 20 words) | F25: Words: | G25: =IF(LEN(TRIM(A26))=0,0,LEN(TRIM(A26))-LEN(SUBSTITUTE(A26," ",""))+1) -> 0

Sheet Report - Supervisor
A1: Project Report (to be marked by the Supervisor) 75% of the module.
A3: In order for the project to be graded (i.e., not to get an automatic failure), the report must contain the following information and the student must conduct a viva and demonstration.
A4: Project aims and objectives agreed with assessment team | C4: Project plan produced and acceptable | E4: Report and product are of appropriate size | G4: Conducted Viva & Demonstration
A5: Yes | C5: Yes | E5: Yes | G5: Yes
C7: Weight | D7: Enter Mark % | E7: Mark | F7: Feedback
A8: Abstract & Introduction (Learning Outcome: 1) | C8: 10 | E8: =(C8/100)*D8 -> 0
A9: Literature Review & Referencing (Learning Outcome: 4 & 5) | C9: 25 | E9: =(C9/100)*D9 -> 0
A10: Methodology (Learning Outcomes: 2 & 4) | C10: 10 | E10: =(C10/100)*D10 -> 0
A11: Implementation & Evaluation (Learning Outcome: 3 & 5 ) | C11: 30 | E11: =(C11/100)*D11 -> 0
A12: Report Presentation (Learning Outcomes: 7) | C12: 10 | E12: =(C12/100)*D12 -> 0
A13: Career Pathway (Learning Outcome: 9) | C13: 5 | E13: =(C13/100)*D13 -> 0
A14: Total | C14: =SUM(C8:C13) -> 90 | E14: =SUM(E8:E13) -> 0
A15: Feedback Summary (minimum 20 words) | F15: Words: | G15: =IF(LEN(TRIM(A16))=0,0,LEN(TRIM(A16))-LEN(SUBSTITUTE(A16," ",""))+1) -> 0

Sheet Report - Second Marker
A1: Project Report (to be marked by the Second Marker) 75% of the module
A3: In order for the project to be graded (i.e., not to get an automatic failure), the report must contain the following information and the student must conduct a viva and demonstration.
A4: Project aims and objectives agreed with assessment team | C4: Project plan produced and acceptable | E4: Report and product are of appropriate size | G4: Conducted Viva & Demonstration
A5: Yes | C5: Yes | E5: Yes | G5: Yes
C7: Weight | D7: Enter Mark % | E7: Mark | F7: Feedback
A8: Abstract & Introduction (Learning Outcome: 1) | C8: 10 | E8: =(C8/100)*D8 -> 0
A9: Literature Review & Referencing (Learning Outcome: 4 & 5) | C9: 25 | E9: =(C9/100)*D9 -> 0
A10: Methodology (Learning Outcomes: 2 & 4) | C10: 10 | E10: =(C10/100)*D10 -> 0
A11: Implementation & Evaluation (Learning Outcome: 3 & 5 ) | C11: 30 | E11: =(C11/100)*D11 -> 0
A12: Report Presentation (Learning Outcomes: 7) | C12: 10 | E12: =(C12/100)*D12 -> 0
A13: Career Pathway (Learning Outcome: 9) | C13: 5 | E13: =(C13/100)*D13 -> 0
A14: Total | C14: =SUM(C8:C13) -> 90 | E14: =SUM(E8:E13) -> 0
A15: Feedback Summary (minimum 20 words) | F15: Words: | G15: =IF(LEN(TRIM(A16))=0,0,LEN(TRIM(A16))-LEN(SUBSTITUTE(A16," ",""))+1) -> 0

Sheet Report - Third Marker
A1: Project Report (to be marked by 3rd Marker when difference between Supervisor & 2nd Marker > 10%)
A3: In order for the project to be graded (i.e., not to get an automatic failure), the report must contain the following information and the student must conduct a viva and demonstration.
A4: Project aims and objectives agreed with assessment team | C4: Project plan produced and acceptable | E4: Report and product are of appropriate size | G4: Conducted Viva & Demonstration
A5: Yes or No | C5: Yes or No | E5: Yes or No | G5: Yes or No
C7: Weight | D7: Enter Mark % | E7: Mark | F7: Feedback
A8: Abstract & Introduction (Learning Outcome: 1) | C8: 10 | E8: =(C8/100)*D8 -> 0
A9: Literature Review & Referencing (Learning Outcome: 4 & 5) | C9: 25 | E9: =(C9/100)*D9 -> 0
A10: Methodology (Learning Outcomes: 2 & 4) | C10: 10 | E10: =(C10/100)*D10 -> 0
A11: Implementation & Evaluation (Learning Outcome: 3 & 5 ) | C11: 30 | E11: =(C11/100)*D11 -> 0
A12: Report Presentation (Learning Outcomes: 7) | C12: 10 | E12: =(C12/100)*D12 -> 0
A13: Career Pathway (Learning Outcome: 9) | C13: 5 | E13: =(C13/100)*D13 -> 0
A14: Total | C14: =SUM(C8:C13) -> 90 | E14: =SUM(E8:E13) -> 0
A15: Feedback Summary (minimum 20 words) | F15: Words: | G15: =IF(LEN(TRIM(A16))=0,0,LEN(TRIM(A16))-LEN(SUBSTITUTE(A16," ",""))+1) -> 0

Sheet Resit Report - Supervisor
A1: RESIT Project Report (to be marked by the Supervisor) 75% of the module.
A3: In order for the project to be graded (i.e., not to get an automatic failure), the report must contain the following information and the student must conduct a viva and demonstration.
A4: Project aims and objectives agreed with assessment team | C4: Project plan produced and acceptable | E4: Report and product are of appropriate size | G4: Conducted Viva & Demonstration
A5: Yes or No | C5: Yes or No | E5: Yes or No | G5: Yes or No
C7: Weight | D7: Enter Mark % | E7: Mark | F7: Feedback
A8: Abstract & Introduction (Learning Outcome: 1) | C8: 10 | E8: =(C8/100)*D8 -> 0
A9: Literature Review & Referencing (Learning Outcome: 4 & 5) | C9: 25 | E9: =(C9/100)*D9 -> 0
A10: Methodology (Learning Outcomes: 2 & 4) | C10: 10 | E10: =(C10/100)*D10 -> 0
A11: Implementation & Evaluation (Learning Outcome: 3 & 5 ) | C11: 30 | E11: =(C11/100)*D11 -> 0
A12: Report Presentation (Learning Outcomes: 7) | C12: 10 | E12: =(C12/100)*D12 -> 0
A13: Career Pathway (Learning Outcome: 9) | C13: 5 | E13: =(C13/100)*D13 -> 0
A14: Total | C14: =SUM(C8:C13) -> 90 | E14: =SUM(E8:E13) -> 0
A15: Feedback Summary (minimum 20 words) | F15: Words: | G15: =IF(LEN(TRIM(A16))=0,0,LEN(TRIM(A16))-LEN(SUBSTITUTE(A16," ",""))+1) -> 0

Sheet Resit Report - Second Marker
A1: RESIT Project Report (to be marked by the Second Marker) 75% of the module
A3: In order for the project to be graded (i.e., not to get an automatic failure), the report must contain the following information and the student must conduct a viva and demonstration.
A4: Project aims and objectives agreed with assessment team | C4: Project plan produced and acceptable | E4: Report and product are of appropriate size | G4: Conducted Viva & Demonstration
A5: Yes or No | C5: Yes or No | E5: Yes or No | G5: Yes or No
C7: Weight | D7: Enter Mark % | E7: Mark | F7: Feedback
A8: Abstract & Introduction (Learning Outcome: 1) | C8: 10 | E8: =(C8/100)*D8 -> 0
A9: Literature Review & Referencing (Learning Outcome: 4 & 5) | C9: 25 | E9: =(C9/100)*D9 -> 0
A10: Methodology (Learning Outcomes: 2 & 4) | C10: 10 | E10: =(C10/100)*D10 -> 0
A11: Implementation & Evaluation (Learning Outcome: 3 & 5 ) | C11: 30 | E11: =(C11/100)*D11 -> 0
A12: Report Presentation (Learning Outcomes: 7) | C12: 10 | E12: =(C12/100)*D12 -> 0
A13: Career Pathway (Learning Outcome: 9) | C13: 5 | E13: =(C13/100)*D13 -> 0
A14: Total | C14: =SUM(C8:C13) -> 90 | E14: =SUM(E8:E13) -> 0
A15: Feedback Summary (minimum 20 words) | F15: Words: | G15: =IF(LEN(TRIM(A16))=0,0,LEN(TRIM(A16))-LEN(SUBSTITUTE(A16," ",""))+1) -> 0

Sheet Resit Report - Third Marker
A1: Project Report (to be marked by 3rd Marker when difference between Supervisor & 2nd Marker > 10%)
A3: In order for the project to be graded (i.e., not to get an automatic failure), the report must contain the following information and the student must conduct a viva and demonstration.
A4: Project aims and objectives agreed with assessment team | C4: Project plan produced and acceptable | E4: Report and product are of appropriate size | G4: Conducted Viva & Demonstration
A5: Yes or No | C5: Yes or No | E5: Yes or No | G5: Yes or No
C7: Weight | D7: Enter Mark % | E7: Mark | F7: Feedback
A8: Abstract & Introduction (Learning Outcome: 1) | C8: 10 | E8: =(C8/100)*D8 -> 0
A9: Literature Review & Referencing (Learning Outcome: 4 & 5) | C9: 25 | E9: =(C9/100)*D9 -> 0
A10: Methodology (Learning Outcomes: 2 & 4) | C10: 10 | E10: =(C10/100)*D10 -> 0
A11: Implementation & Evaluation (Learning Outcome: 3 & 5 ) | C11: 30 | E11: =(C11/100)*D11 -> 0
A12: Report Presentation (Learning Outcomes: 7) | C12: 10 | E12: =(C12/100)*D12 -> 0
A13: Career Pathway (Learning Outcome: 9) | C13: 5 | E13: =(C13/100)*D13 -> 0
A14: Total | C14: =SUM(C8:C13) -> 90 | E14: =SUM(E8:E13) -> 0
A15: Feedback Summary (minimum 20 words) | F15: Words: | G15: =IF(LEN(TRIM(A16))=0,0,LEN(TRIM(A16))-LEN(SUBSTITUTE(A16," ",""))+1) -> 0

Sheet Assessors
A1: =D1&" "&E1 -> Aloy Edoh | D1: Aloy | E1: Edoh
A2: =D2&" "&E2 -> Abdulrazaq Abba | D2: Abdulrazaq | E2: Abba
A3: =D3&" "&E3 -> Amin Karami | D3: Amin | E3: Karami
A4: =D4&" "&E4 -> Arish Siddiqui | D4: Arish | E4: Siddiqui
A5: =D5&" "&E5 -> Bilyaminu Auwal Romo | D5: Bilyaminu | E5: Auwal Romo
A6: Elias Eze
A7: =D7&" "&E7 -> Fahimeh Jafari | D7: Fahimeh | E7: Jafari
A8: =D8&" "&E8 -> Fadi Safieddine | D8: Fadi | E8: Safieddine
A9: =D9&" "&E9 -> Hisham AbouGrad | D9: Hisham | E9: AbouGrad
A10: MD Aqtiar Ahad
A11: =D11&" "&E11 -> Mohammad Amirhosseini | D11: Mohammad | E11: Amirhosseini
A12: =D12&" "&E12 -> Mustansar Ghazanfar | D12: Mustansar | E12: Ghazanfar
A13: =D13&" "&E13 -> Nabeela Altrabsheh | D13: Nabeela | E13: Altrabsheh
A14: =D14&" "&E14 -> Nadeem Qazi | D14: Nadeem | E14: Qazi
A15: =D15&" "&E15 -> Paul Bombo | D15: Paul | E15: Bombo
A16: =D16&" "&E16 -> Rawad Hammad | D16: Rawad | E16: Hammad
A17: =D17&" "&E17 -> Seyed Ali Ghorashi | D17: Seyed Ali | E17: Ghorashi
A18: =D18&" "&E18 -> Solomon Alexis | D18: Solomon | E18: Alexis
A19: Sujit Biswas
A20: Umaima Haider
A21: =D21&" "&E21 -> Umar Ismail | D21: Umar | E21: Ismail
A22: Sujit Biswas
A23: Umaima Haider
A24: =D24&" "&E24 -> Umar Ismail | D24: Umar | E24: Ismail

Sheet Responses
A1: Yes
A2: No
A5: Approved
A6: Not Approved
A8: 0
A9: 1
A10: 2
A11: 3
A12: 4
A13: 5
A14: 6
A16: BSc (Hons) Computer Science
A17: BSc (Hons) Cyber Security & Networks
A18: BSc (Hons) Computing for Business
A19: BSc (Hons) Mobile Computing and Communications
A20: BSc (Hons) Computing
A21: BSc (Hons) Applied Computing
A22: BSc (Hons) Cyber Security & Networks
